BEGIN:VCALENDAR
VERSION:2.0
PRODID:-//Tukios.com/
BEGIN:VEVENT
UID:8b228d7d-27a1-435e-9358-c316b3c72e36@www.parkermemorialfuneralhomes.com
DTSTAMP:20260422T172730Z
DTSTART:20260426T190000Z
DTEND:20260426T200000Z
SUMMARY:Funeral Service
DESCRIPTION:
URL:https://www.parkermemorialfuneralhomes.com/obituaries/dennis-simpson
LOCATION:Grace Church     
GEO:0;0
END:VEVENT
END:VCALENDAR