BEGIN:VCALENDAR
VERSION:2.0
PRODID:-//Tukios.com/
BEGIN:VEVENT
UID:46f0abf0-f8a6-44cf-9144-cc1155a37d71@www.parkermemorialfuneralhomes.com
DTSTAMP:20260422T173139Z
DTSTART:20260426T180000Z
DTEND:20260426T190000Z
SUMMARY:Public Viewing
DESCRIPTION:
URL:https://www.parkermemorialfuneralhomes.com/obituaries/dennis-simpson
LOCATION:Grace Church     
GEO:0;0
END:VEVENT
END:VCALENDAR