BEGIN:VCALENDAR
VERSION:2.0
PRODID:-//Tukios.com/
BEGIN:VEVENT
UID:6c7f2466-bb25-410c-b568-dd1396d39b56@www.parkermemorialfuneralhomes.com
DTSTAMP:20260422T172632Z
DTSTART:20260426
SUMMARY:Burial
DESCRIPTION:
URL:https://www.parkermemorialfuneralhomes.com/obituaries/dennis-simpson
LOCATION:New Gauley Cemetery New Gauley Cemetery 350 Co Rd 481 Calhoun 
	City MS 38916
GEO:33.786557;-89.31344
END:VEVENT
END:VCALENDAR