BEGIN:VCALENDAR
VERSION:2.0
PRODID:-//Tukios.com/
BEGIN:VEVENT
UID:cb799312-6086-4b0f-8e47-4b3824fac95c@www.parkermemorialfuneralhomes.com
DTSTAMP:20260422T225508Z
DTSTART:20260424T160000Z
DTEND:20260424T170000Z
SUMMARY:Funeral Service
DESCRIPTION:
URL:https://www.parkermemorialfuneralhomes.com/obituaries/mary-ferguson
LOCATION:Parker Memorial Funeral Home Chapel - Vardaman 340 Hill Avenue  
	Vardaman MS 38878
GEO:33.8773679;-89.185325
END:VEVENT
END:VCALENDAR