BEGIN:VCALENDAR
VERSION:2.0
PRODID:-//Tukios.com/
BEGIN:VEVENT
UID:bf5ebf82-1512-475d-8b13-ea198152071a@www.parkermemorialfuneralhomes.com
DTSTAMP:20260422T225657Z
DTSTART:20260423T220000Z
DTEND:20260424T010000Z
SUMMARY:Public Viewing
DESCRIPTION:
URL:https://www.parkermemorialfuneralhomes.com/obituaries/mary-ferguson
LOCATION:Parker Memorial Funeral Home - Vardaman 340 Hill Avenue  
	Vardaman MS 38878
GEO:33.8773679;-89.185325
END:VEVENT
END:VCALENDAR