BEGIN:VCALENDAR
VERSION:2.0
PRODID:-//Tukios.com/
BEGIN:VEVENT
UID:2c292548-9064-4e88-882c-9e456310952c@www.parkermemorialfuneralhomes.com
DTSTAMP:20260423T215615Z
DTSTART:20260425T180000Z
DTEND:20260425T190000Z
SUMMARY:Funeral Service
DESCRIPTION:
URL:https://www.parkermemorialfuneralhomes.com/obituaries/ronald-wallace
LOCATION:Parker Memorial Funeral Home Chapel - Bruce 476 Hwy 9N  Bruce MS 
	38915
GEO:34.2660928;-88.9907094
END:VEVENT
END:VCALENDAR