BEGIN:VCALENDAR
VERSION:2.0
PRODID:-//Tukios.com/
BEGIN:VEVENT
UID:6d6e1063-8d35-4598-89b7-25314568e805@www.parkermemorialfuneralhomes.com
DTSTAMP:20260423T215053Z
DTSTART:20260425T160000Z
DTEND:20260425T180000Z
SUMMARY:Public Viewing
DESCRIPTION:
URL:https://www.parkermemorialfuneralhomes.com/obituaries/ronald-wallace
LOCATION:Parker Memorial Funeral Home - Bruce 476 Hwy 9n  Bruce MS 38915
GEO:34.2660928;-88.9907094
END:VEVENT
END:VCALENDAR