BEGIN:VCALENDAR
VERSION:2.0
PRODID:-//Tukios.com/
BEGIN:VEVENT
UID:3895b126-426e-4711-8361-01aebaf73a39@www.parkermemorialfuneralhomes.com
DTSTAMP:20260423T215447Z
DTSTART:20260425
SUMMARY:Burial
DESCRIPTION:
URL:https://www.parkermemorialfuneralhomes.com/obituaries/ronald-wallace
LOCATION:Webb Cemetery 0  Oxford MS 38655
GEO:34.3659868;-89.5188246
END:VEVENT
END:VCALENDAR