BEGIN:VCALENDAR
VERSION:2.0
PRODID:-//Tukios.com/
BEGIN:VEVENT
UID:afc4cc58-c635-4954-b779-af0ea522db3b@www.parkermemorialfuneralhomes.com
DTSTAMP:20260422T190554Z
DTSTART:20260424T180000Z
DTEND:20260424T200000Z
SUMMARY:Public Viewing
DESCRIPTION:
URL:https://www.parkermemorialfuneralhomes.com/obituaries/sherrie-ledbetter
LOCATION:Parker Memorial Funeral Home - Bruce 476 Hwy 9n  Bruce MS 38915
GEO:34.2660928;-88.9907094
END:VEVENT
END:VCALENDAR