BEGIN:VCALENDAR
VERSION:2.0
PRODID:-//Tukios.com/
BEGIN:VEVENT
UID:b2a7bc99-c69b-4283-8b3f-561ce7935b21@www.parkermemorialfuneralhomes.com
DTSTAMP:20260422T190554Z
DTSTART:20260424T200000Z
DTEND:20260424T210000Z
SUMMARY:Funeral Service
DESCRIPTION:
URL:https://www.parkermemorialfuneralhomes.com/obituaries/sherrie-ledbetter
LOCATION:Parker Memorial Funeral Home Chapel - Bruce 476 Hwy 9N  Bruce MS 
	38915
GEO:34.2660928;-88.9907094
END:VEVENT
END:VCALENDAR