BEGIN:VCALENDAR
VERSION:2.0
PRODID:-//Tukios.com/
BEGIN:VEVENT
UID:c87ff577-8ee1-4a4f-9dfc-2d2d550e29ff@www.parkermemorialfuneralhomes.com
DTSTAMP:20260422T190231Z
DTSTART:20260424
SUMMARY:Burial
DESCRIPTION:
URL:https://www.parkermemorialfuneralhomes.com/obituaries/sherrie-ledbetter
LOCATION:Pleasant Ridge Cemetery 331 County Road 151  Bruce MS 38915
GEO:34.089819;-89.2794766
END:VEVENT
END:VCALENDAR